BEGIN:VCALENDAR
VERSION:2.0
PRODID:-//Squarespace Inc/Squarespace 6//v6//EN
BEGIN:VEVENT
UID:5e54d90590b2290d0c1b6c3c@squarespace.com
DTSTAMP:20200225T082212Z
DTSTART:20201001T083000Z
DTEND:20201001T093000Z
SUMMARY:Clayton Utz Clerkship Seminar (date TBA)
END:VEVENT
END:VCALENDAR
