BEGIN:VCALENDAR
VERSION:2.0
PRODID:-//Squarespace Inc/Squarespace 6//v6//EN
BEGIN:VEVENT
UID:5e54d93cb6b9e656cc053463@squarespace.com
DTSTAMP:20200225T082315Z
DTSTART:20201001T083000Z
DTEND:20201001T093000Z
SUMMARY:Herbert Smith Freehills Clerkship Seminar (date TBA)
END:VEVENT
END:VCALENDAR
