BEGIN:VCALENDAR
VERSION:2.0
PRODID:-//Squarespace Inc/Squarespace 6//v6//EN
BEGIN:VEVENT
UID:5e54d7247cffed4b985631a2@squarespace.com
DTSTAMP:20200225T081710Z
DTSTART:20201024T080000Z
DTEND:20201024T130000Z
SUMMARY:Law Ball
GEO:40.720756;-74.000761
LOCATION:Mystery Location!
END:VEVENT
END:VCALENDAR
