BEGIN:VCALENDAR
VERSION:2.0
PRODID:-//Squarespace Inc/Squarespace 6//v6//EN
BEGIN:VEVENT
UID:5e54d7a696222f7840e51765@squarespace.com
DTSTAMP:20200225T105925Z
DTSTART:20200805T083000Z
DTEND:20200805T093000Z
SUMMARY:LGBTI+ and the Law
END:VEVENT
END:VCALENDAR
