BEGIN:VCALENDAR
VERSION:2.0
PRODID:-//Squarespace Inc/Squarespace 6//v6//EN
BEGIN:VEVENT
UID:5e54d78023006140ae1d004b@squarespace.com
DTSTAMP:20200225T105914Z
DTSTART:20200506T083000Z
DTEND:20200506T093000Z
SUMMARY:Mentally Healthy
END:VEVENT
END:VCALENDAR
