BEGIN:VCALENDAR
VERSION:2.0
PRODID:-//Squarespace Inc/Squarespace 6//v6//EN
BEGIN:VEVENT
UID:5e54d8204eb2985cbbf9c0c8@squarespace.com
DTSTAMP:20200225T082055Z
DTSTART:20200310T020000Z
DTEND:20200310T040000Z
SUMMARY:Bond University—PLT and Pizza
GEO:-27.96284;153.381428
LOCATION:Moot Court\, G36\, Griffith University\, Southport\, Australia
END:VEVENT
END:VCALENDAR
