BEGIN:VCALENDAR
VERSION:2.0
PRODID:-//Squarespace Inc/Squarespace 6//v6//EN
BEGIN:VEVENT
UID:5e672f7a7325ed3b08fca292@squarespace.com
DTSTAMP:20200310T063034Z
DTSTART:20200312T233000Z
DTEND:20200313T013000Z
SUMMARY:Witness Examination Seminar
GEO:-27.962444;153.379636
LOCATION:Moot Court G36 (Law Building)\, University Drive\, Southport\, QLD
 \, 4215\, Australia
END:VEVENT
END:VCALENDAR
