BEGIN:VCALENDAR
VERSION:2.0
PRODID:-//Squarespace Inc/Squarespace 6//v6//EN
BEGIN:VEVENT
UID:5e54d8a3fa46824a8e66fe6c@squarespace.com
DTSTAMP:20200308T102416Z
DTSTART:20200317T020000Z
DTEND:20200317T040000Z
SUMMARY:College of Law—PLT and Prosciutto
END:VEVENT
END:VCALENDAR
