BEGIN:VCALENDAR
VERSION:2.0
PRODID:-//Squarespace Inc/Squarespace 6//v6//EN
BEGIN:VEVENT
UID:5e528cf25b06bd56a99cef68@squarespace.com
DTSTAMP:20200308T102310Z
DTSTART:20200326T210000Z
DTEND:20200326T230000Z
SUMMARY:Women in Law Breakfast
GEO:-28.003012;153.428071
LOCATION:The Island\, 3128 Surfers Paradise Boulevard\, Surfers Paradise\, 
 QLD\, 4217\, Australia
END:VEVENT
END:VCALENDAR
