BEGIN:VCALENDAR
VERSION:2.0
PRODID:-//Squarespace Inc/Squarespace 6//v6//EN
BEGIN:VEVENT
UID:5e528bb92bf5dc55cc17149a@squarespace.com
DTSTAMP:20200223T150205Z
DTSTART:20200304T000000Z
DTEND:20200304T023000Z
SUMMARY:Competitions Information Seminar
GEO:-27.973794;153.418314
LOCATION:Moot Court\, G36 (Law Building)\, Southport\, Australia
END:VEVENT
END:VCALENDAR
