BEGIN:VCALENDAR
VERSION:2.0
PRODID:-//Squarespace Inc/Squarespace 6//v6//EN
BEGIN:VEVENT
UID:5e54d351ed1f1c2b9ccb92df@squarespace.com
DTSTAMP:20200225T081307Z
DTSTART:20200306T070000Z
DTEND:20200306T130000Z
SUMMARY:SOS (Start of Semester) Drinks
GEO:-28.003012;153.428071
LOCATION:The Island\, 3128 Surfers Paradise Boulevard\, Surfers Paradise\, 
 QLD\, 4217\, Australia
END:VEVENT
END:VCALENDAR
