BEGIN:VCALENDAR
VERSION:2.0
PRODID:-//Squarespace Inc/Squarespace 6//v6//EN
BEGIN:VEVENT
UID:5e54d3fe69e628321df9c4f1@squarespace.com
DTSTAMP:20200225T081250Z
DTSTART:20200331T200000Z
DTEND:20200331T210000Z
SUMMARY:Social Sports
END:VEVENT
END:VCALENDAR
