BEGIN:VCALENDAR
VERSION:2.0
PRODID:-//Squarespace Inc/Squarespace 6//v6//EN
BEGIN:VEVENT
UID:5e64cb50916b3a6bcbc9356f@squarespace.com
DTSTAMP:20200308T104302Z
DTSTART:20200914T230000Z
DTEND:20200915T120000Z
SUMMARY:The ANIMAL Moot
GEO:-37.798346;144.960974
LOCATION:University of Melbourne
END:VEVENT
END:VCALENDAR
