BEGIN:VCALENDAR
VERSION:2.0
PRODID:-//Squarespace Inc/Squarespace 6//v6//EN
BEGIN:VEVENT
UID:5e64cc4fa29cd069c4c8d3e4@squarespace.com
DTSTAMP:20200308T104649Z
DTSTART:20200929T230000Z
DTEND:20201002T000000Z
SUMMARY:Australia and New Zealand Air Law Moot (ANZALM)
GEO:-34.921247;138.604801
LOCATION:Adelaide University\, North Terrace\, Adelaide\, South Australia\, 
 Australia
END:VEVENT
END:VCALENDAR
