BEGIN:VCALENDAR
VERSION:2.0
PRODID:-//Squarespace Inc/Squarespace 6//v6//EN
BEGIN:VEVENT
UID:5f52e380fccd86693e599ec9@squarespace.com
DTSTAMP:20200905T010603Z
DTSTART:20200910T070000Z
DTEND:20200910T090000Z
SUMMARY:Ashurst Junior Moot Grand Final
END:VEVENT
END:VCALENDAR
