BEGIN:VCALENDAR
VERSION:2.0
PRODID:-//Squarespace Inc/Squarespace 6//v6//EN
BEGIN:VEVENT
UID:5e54ff6790b2290d0c1f0fa9@squarespace.com
DTSTAMP:20200308T105207Z
DTSTART:20200501T080000Z
DTEND:20200501T110000Z
SUMMARY:Championship Moot Grand Final and Awards Night
GEO:42.05557;-76.818435
LOCATION:Southport District Court
END:VEVENT
END:VCALENDAR
